BEGIN:VCALENDAR
VERSION:2.0
PRODID:-//TRUMPET OF FAITH MINISTRIES (TFM) - ECPv6.15.20//NONSGML v1.0//EN
CALSCALE:GREGORIAN
METHOD:PUBLISH
X-ORIGINAL-URL:https://trumpetnet.org
X-WR-CALDESC:Events for TRUMPET OF FAITH MINISTRIES (TFM)
REFRESH-INTERVAL;VALUE=DURATION:PT1H
X-Robots-Tag:noindex
X-PUBLISHED-TTL:PT1H
BEGIN:VTIMEZONE
TZID:UTC
BEGIN:STANDARD
TZOFFSETFROM:+0000
TZOFFSETTO:+0000
TZNAME:UTC
DTSTART:20250101T000000
END:STANDARD
END:VTIMEZONE
BEGIN:VEVENT
DTSTART;TZID=UTC:20260611T080000
DTEND;TZID=UTC:20260712T170000
DTSTAMP:20260421T160150
CREATED:20260408T132238Z
LAST-MODIFIED:20260408T132238Z
UID:1466-1781164800-1783875600@trumpetnet.org
SUMMARY:Bible school
DESCRIPTION:
URL:https://trumpetnet.org/event/bible-school/
END:VEVENT
END:VCALENDAR